BEGIN:VCALENDAR
VERSION:2.0
PRODID:-// - ECPv6.15.17.1//NONSGML v1.0//EN
CALSCALE:GREGORIAN
METHOD:PUBLISH
X-ORIGINAL-URL:https://planhoy.com
X-WR-CALDESC:Eventos para 
REFRESH-INTERVAL;VALUE=DURATION:PT1H
X-Robots-Tag:noindex
X-PUBLISHED-TTL:PT1H
BEGIN:VTIMEZONE
TZID:UTC
BEGIN:STANDARD
TZOFFSETFROM:+0000
TZOFFSETTO:+0000
TZNAME:UTC
DTSTART:20250101T000000
END:STANDARD
END:VTIMEZONE
BEGIN:VEVENT
DTSTART;TZID=UTC:20260606T143000
DTEND;TZID=UTC:20260606T220000
DTSTAMP:20260421T195949
CREATED:20260421T144536Z
LAST-MODIFIED:20260421T144536Z
UID:1698-1780756200-1780783200@planhoy.com
SUMMARY:Mundo mágico
DESCRIPTION:¡Llega el evento infantil más espectacular a Villavicencio! \nPrepárate para vivir una tarde mágica llena de diversión\, música y personajes increíbles \nDisfruta de: Las Guerreras K-pop \nLuli pampin \nLas Princesas Disney \nLos saja Boys \nRené \nPawPatrol \n  \n¡Y mucho más! \nFecha: Domingo 6 de junio \nHora: 2:30 p.m. \nLugar: Villavicencio hotel GHL Única función \n  \nZona Diamante: $70.000 \n  \nZona Platinum: $60.000 \n  \nCompra tus boletas ya en: \n  \n310-345-2783
URL:https://planhoy.com/event/mundo-magico/
CATEGORIES:Familiar e infantil villavo
ATTACH;FMTTYPE=image/jpeg:https://planhoy.com/wp-content/uploads/2026/04/Screenshot_20260421_093937_com_facebook_katana_FbMainTabActivity_edit_460405134637128.jpg
END:VEVENT
END:VCALENDAR