BEGIN:VCALENDAR
VERSION:2.0
PRODID:-// - ECPv6.15.17.1//NONSGML v1.0//EN
CALSCALE:GREGORIAN
METHOD:PUBLISH
X-ORIGINAL-URL:https://planhoy.com
X-WR-CALDESC:Eventos para 
REFRESH-INTERVAL;VALUE=DURATION:PT1H
X-Robots-Tag:noindex
X-PUBLISHED-TTL:PT1H
BEGIN:VTIMEZONE
TZID:UTC
BEGIN:STANDARD
TZOFFSETFROM:+0000
TZOFFSETTO:+0000
TZNAME:UTC
DTSTART:20250101T000000
END:STANDARD
END:VTIMEZONE
BEGIN:VEVENT
DTSTART;TZID=UTC:20260418T160000
DTEND;TZID=UTC:20260418T213000
DTSTAMP:20260421T171751
CREATED:20260415T000703Z
LAST-MODIFIED:20260418T220144Z
UID:1503-1776528000-1776547800@planhoy.com
SUMMARY:BINGO KIDS
DESCRIPTION:En abril\, los niños son los protagonistas en nuestro Bingo Kids Primavera. \nDisfruta de un espacio lleno de diversión con pintucaritas\, globoflexia y la oportunidad de ganar increíbles premios para los más pequeños de la casa. \n¿Cómo puedes inscribirte? -Realiza compras iguales o superiores a $300.000 pesos \n-Registra tus facturas del 1 al 18 de abril en nuestro Punto de Información y recibe tu ticket para participar. \n¿Cuándo? \nSábado 18 de abril \n4:00 p. m. \n3er piso\, tarima del boulevard \nAplican términos y condiciones
URL:https://planhoy.com/event/bingo-kids/
LOCATION:Primavera urbana\, Calle 15 # 40-01\, VILLAVICENCIO\, META\, 500004\, Colombia
CATEGORIES:Familiar e infantil villavo,Villavicencio
ATTACH;FMTTYPE=image/jpeg:https://planhoy.com/wp-content/uploads/2026/04/Screenshot_20260411_152647_com_facebook_katana_FbMainTabActivity.jpg
END:VEVENT
END:VCALENDAR