BEGIN:VCALENDAR
VERSION:2.0
PRODID:-// - ECPv6.15.17.1//NONSGML v1.0//EN
CALSCALE:GREGORIAN
METHOD:PUBLISH
X-ORIGINAL-URL:https://planhoy.com
X-WR-CALDESC:Eventos para 
REFRESH-INTERVAL;VALUE=DURATION:PT1H
X-Robots-Tag:noindex
X-PUBLISHED-TTL:PT1H
BEGIN:VTIMEZONE
TZID:UTC
BEGIN:STANDARD
TZOFFSETFROM:+0000
TZOFFSETTO:+0000
TZNAME:UTC
DTSTART:20250101T000000
END:STANDARD
END:VTIMEZONE
BEGIN:VEVENT
DTSTART;TZID=UTC:20260422T100000
DTEND;TZID=UTC:20260422T130000
DTSTAMP:20260421T150508
CREATED:20260420T182814Z
LAST-MODIFIED:20260420T182814Z
UID:1628-1776852000-1776862800@planhoy.com
SUMMARY:Juegos universitarios regionales
DESCRIPTION:¡Todo listo para vivir la emoción del deporte universitario! \nTe invitamos a la Rueda de Prensa de los Juegos Universitarios Regionales ASCUN Nodo Oriente 2026\, donde conoceremos todos los detalles de este gran evento que reunirá talento
URL:https://planhoy.com/event/juegos-universitarios-regionales/
LOCATION:Indermeta\, Cra. 16 #24-3\, VILLAVICENCIO\, META\, 50000\, Colombia
CATEGORIES:Eventos deportivos villavo
ATTACH;FMTTYPE=image/jpeg:https://planhoy.com/wp-content/uploads/2026/04/Screenshot_20260420_132257_com_hihonor_photos_SlotAlbumActivity.jpg
END:VEVENT
END:VCALENDAR