BEGIN:VCALENDAR
VERSION:2.0
PRODID:-// - ECPv6.15.17.1//NONSGML v1.0//EN
CALSCALE:GREGORIAN
METHOD:PUBLISH
X-ORIGINAL-URL:https://planhoy.com
X-WR-CALDESC:Eventos para 
REFRESH-INTERVAL;VALUE=DURATION:PT1H
X-Robots-Tag:noindex
X-PUBLISHED-TTL:PT1H
BEGIN:VTIMEZONE
TZID:UTC
BEGIN:STANDARD
TZOFFSETFROM:+0000
TZOFFSETTO:+0000
TZNAME:UTC
DTSTART:20250101T000000
END:STANDARD
END:VTIMEZONE
BEGIN:VEVENT
DTSTART;TZID=UTC:20260421T060000
DTEND;TZID=UTC:20260529T200000
DTSTAMP:20260421T134455
CREATED:20260421T002326Z
LAST-MODIFIED:20260421T002326Z
UID:1635-1776751200-1780084800@planhoy.com
SUMMARY:Museo de oro Nariño en el CRAI
DESCRIPTION:El pasado nos habla \nEl CRAl se transforma en un portal al tiempo para recibir la Exposición de Piezas Precolombinas. Ven y descubre el arte\, la cosmogonía y el legado de las culturas que habitaron nuestro territorio mucho antes que nosotros. \n  \nEntrada: Libre para todos
URL:https://planhoy.com/event/museo-de-oro-narino-en-el-crai/
LOCATION:Universidad  Santo tomas\, Cra. 22\, Villavicencio\, VILLAVICENCIO\, META\, 500001\, Colombia
CATEGORIES:Educacion y talleres villavo
ATTACH;FMTTYPE=image/jpeg:https://planhoy.com/wp-content/uploads/2026/04/Screenshot_20260420_191458_com_instagram_android_InstagramMainActivity_edit_433317025891367.jpg
END:VEVENT
BEGIN:VEVENT
DTSTART;TZID=UTC:20260429T070000
DTEND;TZID=UTC:20260429T160000
DTSTAMP:20260421T134455
CREATED:20260421T044056Z
LAST-MODIFIED:20260421T044056Z
UID:1671-1777446000-1777478400@planhoy.com
SUMMARY:Feria apertura mes de las madres
DESCRIPTION:Este 29 de abril\, vive una jornada llena de inspiración\, emprendimiento y reconocimiento en la Feria de Apertura del Mes de las Madres \nUn espacio liderado por Centro Progresa E.P.E. UNIMINUTO\, creado para impulsar sueños\, fortalecer talentos y conectar con la comunidad. \nDe 7:00 a.m. a 4:00 p.m. \nZona T UNIMINUTO – Campus San Juan Eudes \n¿Tienes un emprendimiento? \n¡Esta es tu oportunidad para crecer\, visibilizarte y llevar tu idea al siguiente nivel!
URL:https://planhoy.com/event/feria-apertura-mes-de-las-madres/
LOCATION:Universidad uniminuto\, Carrera 36 No. 5A\, Cl. 21 Sur\, VILLAVICENCIO\, META\, 500004\, Colombia
CATEGORIES:Educacion y talleres villavo,otros eventos villavo,Villavicencio
ATTACH;FMTTYPE=image/jpeg:https://planhoy.com/wp-content/uploads/2026/04/Screenshot_20260420_142548_com_instagram_android_InstagramMainActivity_edit_447349258312785.jpg
END:VEVENT
END:VCALENDAR