BEGIN:VCALENDAR
VERSION:2.0
PRODID:-// - ECPv6.15.17.1//NONSGML v1.0//EN
CALSCALE:GREGORIAN
METHOD:PUBLISH
X-ORIGINAL-URL:https://planhoy.com
X-WR-CALDESC:Eventos para 
REFRESH-INTERVAL;VALUE=DURATION:PT1H
X-Robots-Tag:noindex
X-PUBLISHED-TTL:PT1H
BEGIN:VTIMEZONE
TZID:UTC
BEGIN:STANDARD
TZOFFSETFROM:+0000
TZOFFSETTO:+0000
TZNAME:UTC
DTSTART:20250101T000000
END:STANDARD
END:VTIMEZONE
BEGIN:VEVENT
DTSTART;TZID=UTC:20260417T163000
DTEND;TZID=UTC:20260418T043000
DTSTAMP:20260421T165205
CREATED:20260416T043740Z
LAST-MODIFIED:20260418T220246Z
UID:1524-1776443400-1776486600@planhoy.com
SUMMARY:FESTIVAL REGIONAL  DELA JUVENTUD DEL META  Y LXS ESTUDIANTES
DESCRIPTION:Meta Desde el Meta nos preparamos para este gran espacio\, por eso te invitamos a inscribirte y participar en nuestro Festival Regional de la Juventud\, donde podremos discutir y construir una agenda común para las juventudes del Meta\, disfrutar de muestras culturales y artísticas\, y consolidar el movimiento juvenil a nivel regional. \nLugar: Chaza estudiantil – Unillanos sede Barcelona \nFecha: Viernes 17 de abril \nHora: 4:30 p. m. Habrá espacios artisticos\, culturales y campamento (Trae tu camping)
URL:https://planhoy.com/event/festival-regional-dela-juventud-del-meta-y-lxs-estudiantes/
LOCATION:Universidad Unillanos vereda barcelona\, Kilómetro 12 vía a Puerto López\, Vereda Barcelona\, VILLAVICENCIO\, META\, 500004\, Colombia
CATEGORIES:Educacion y talleres villavo,Villavicencio
ATTACH;FMTTYPE=image/jpeg:https://planhoy.com/wp-content/uploads/2026/04/Screenshot_20260415_203545_com_instagram_android_InstagramMainActivity.jpg
END:VEVENT
END:VCALENDAR