BEGIN:VCALENDAR
VERSION:2.0
PRODID:-// - ECPv6.15.17.1//NONSGML v1.0//EN
CALSCALE:GREGORIAN
METHOD:PUBLISH
X-ORIGINAL-URL:https://planhoy.com
X-WR-CALDESC:Eventos para 
REFRESH-INTERVAL;VALUE=DURATION:PT1H
X-Robots-Tag:noindex
X-PUBLISHED-TTL:PT1H
BEGIN:VTIMEZONE
TZID:UTC
BEGIN:STANDARD
TZOFFSETFROM:+0000
TZOFFSETTO:+0000
TZNAME:UTC
DTSTART:20250101T000000
END:STANDARD
END:VTIMEZONE
BEGIN:VEVENT
DTSTART;VALUE=DATE:20260402
DTEND;VALUE=DATE:20260405
DTSTAMP:20260421T161014
CREATED:20260401T194417Z
LAST-MODIFIED:20260418T220429Z
UID:1415-1775088000-1775347199@planhoy.com
SUMMARY:Ecofem llega con toda su magia natural! feria de emprendimientos del Bioparque Los Ocarro
DESCRIPTION:¡Ecofem llega con toda su magia natural! \nEste 2\, 3 y 4 de abril estaremos presentes en la feria de emprendimientos del Bioparque Los Ocarros \nDe 9:00 a.m. a 4:00 p.m.\nVen a conocernos\, descubrir nuestros productos y regalarte un momento de autocuidado consciente \nTe esperamos con amor\, naturaleza y bienestar
URL:https://planhoy.com/event/parque-los-ocarros-feria-emprendimiento/
LOCATION:Los Ocarros\, 65\, Villavicencio\, Meta·7\,2 km\, Villavicencio\, Meta\, 500004\, Colombia
CATEGORIES:Educacion y talleres villavo,Villavicencio
ATTACH;FMTTYPE=image/jpeg:https://planhoy.com/wp-content/uploads/2026/04/Screenshot_20260401_143501_com_facebook_katana_ImmersiveActivity_edit_29501907196869.jpg
END:VEVENT
BEGIN:VEVENT
DTSTART;TZID=UTC:20260402T080000
DTEND;TZID=UTC:20260403T220000
DTSTAMP:20260421T161014
CREATED:20260402T182834Z
LAST-MODIFIED:20260418T220407Z
UID:1466-1775116800-1775253600@planhoy.com
SUMMARY:Emprender con fe
DESCRIPTION:En esta Semana Santa\, el talento y la fe se unen para crear algo único \nVen y vive la Feria de Emprendimiento “Emprender con fe”\, un espacio lleno de creatividad\, tradición y propósito. \nApoya a los emprendedores locales\, descubre detalles hechos con amor y llévate un pedacito de inspiración para tu vida
URL:https://planhoy.com/event/emprender-con-fe/
LOCATION:Unicentro\, Av 40\, #26C - 10\, VILLAVICENCIO\, META\, 500004\, Colombia
CATEGORIES:Educacion y talleres villavo,Villavicencio
ATTACH;FMTTYPE=image/jpeg:https://planhoy.com/wp-content/uploads/2026/04/Screenshot_20260402_132305_com_instagram_android_InstagramMainActivity_edit_75456802479703.jpg
END:VEVENT
END:VCALENDAR