BEGIN:VCALENDAR
VERSION:2.0
PRODID:-// - ECPv6.15.17.1//NONSGML v1.0//EN
CALSCALE:GREGORIAN
METHOD:PUBLISH
X-ORIGINAL-URL:https://planhoy.com
X-WR-CALDESC:Eventos para 
REFRESH-INTERVAL;VALUE=DURATION:PT1H
X-Robots-Tag:noindex
X-PUBLISHED-TTL:PT1H
BEGIN:VTIMEZONE
TZID:UTC
BEGIN:STANDARD
TZOFFSETFROM:+0000
TZOFFSETTO:+0000
TZNAME:UTC
DTSTART:20250101T000000
END:STANDARD
END:VTIMEZONE
BEGIN:VEVENT
DTSTART;TZID=UTC:20260503T200000
DTEND;TZID=UTC:20260504T053000
DTSTAMP:20260421T160808
CREATED:20260421T044941Z
LAST-MODIFIED:20260421T044941Z
UID:1675-1777838400-1777872600@planhoy.com
SUMMARY:Rakim y Ken y
DESCRIPTION:Una noche mágica recordando la vieja escuela del reguetón
URL:https://planhoy.com/event/rakim-y-ken-y/
LOCATION:El cantinazo\, CARRERA 40 26C-35\, VILLAVICENCIO\, META\, 500004\, Colombia
CATEGORIES:Discotecas villavo,Villavicencio
ATTACH;FMTTYPE=image/jpeg:https://planhoy.com/wp-content/uploads/2026/04/Screenshot_20260420_212151_com_instagram_android_InstagramMainActivity_edit_447793509221574.jpg
END:VEVENT
BEGIN:VEVENT
DTSTART;TZID=UTC:20260509T180000
DTEND;TZID=UTC:20260510T050000
DTSTAMP:20260421T160808
CREATED:20260403T002547Z
LAST-MODIFIED:20260418T215718Z
UID:1475-1778349600-1778389200@planhoy.com
SUMMARY:MIGUEL AYALA acacias
DESCRIPTION:DÍA DE LAS MADRES EN LA CERVE \n  \nReservas
URL:https://planhoy.com/event/miguel-ayala-acacias/
LOCATION:Malecón turístico Acacías\, Diagonal 5 #15-20\, Acacías\, META\, 500004\, Colombia
CATEGORIES:Discotecas villavo,Villavicencio
ATTACH;FMTTYPE=image/jpeg:https://planhoy.com/wp-content/uploads/2026/04/Screenshot_20260402_191645_com_instagram_android_InstagramMainActivity.jpg
END:VEVENT
BEGIN:VEVENT
DTSTART;TZID=UTC:20260515T190000
DTEND;TZID=UTC:20260516T053000
DTSTAMP:20260421T160808
CREATED:20260421T043222Z
LAST-MODIFIED:20260421T043232Z
UID:1668-1778871600-1778909400@planhoy.com
SUMMARY:Jean Carlo Centeno
DESCRIPTION:Jean Carlos CENTENO \nVILLAVICENCIO 15.MAY.2026 \nRESERVA AQUÍ \nLOS CAPACHOS 317 565 3669
URL:https://planhoy.com/event/jean-carlo-centeno-2/
LOCATION:Los capachos\, Vía Villavicencio - Acacías #472 Km 4\, Villavicencio\, Meta\, 500004\, Colombia
CATEGORIES:Discotecas villavo,Villavicencio
ATTACH;FMTTYPE=image/jpeg:https://planhoy.com/wp-content/uploads/2026/04/Screenshot_20260420_133617_com_instagram_android_InstagramMainActivity_edit_447014872144267.jpg
END:VEVENT
BEGIN:VEVENT
DTSTART;TZID=UTC:20260516T190000
DTEND;TZID=UTC:20260516T190000
DTSTAMP:20260421T160808
CREATED:20260421T034743Z
LAST-MODIFIED:20260421T035137Z
UID:1647-1778958000-1778958000@planhoy.com
SUMMARY:Homenaje yeison jimenez
DESCRIPTION:BANDA DEL AVENTURERO HOMENAJE \nCIRO QUIÑONEZ \nVILLAVICENCIO \nRESERVAS: \n322 383 2839 \nALEX RIVERA YSU BANDA
URL:https://planhoy.com/event/homenaje-yeison-jimenez/
LOCATION:Los capachos\, Vía Villavicencio - Acacías #472 Km 4\, Villavicencio\, Meta\, 500004\, Colombia
CATEGORIES:Discotecas villavo,Villavicencio
ATTACH;FMTTYPE=image/jpeg:https://planhoy.com/wp-content/uploads/2026/04/Screenshot_20260420_133555_com_instagram_android_InstagramMainActivity.jpg
END:VEVENT
BEGIN:VEVENT
DTSTART;TZID=UTC:20260523T193000
DTEND;TZID=UTC:20260524T053000
DTSTAMP:20260421T160808
CREATED:20260403T224306Z
LAST-MODIFIED:20260418T215615Z
UID:1479-1779564600-1779600600@planhoy.com
SUMMARY:La suprema Corte
DESCRIPTION:Villavicencio se prepara para una GRAN \nNOCHE SUPREMA \nEn Los Capachos llega una de las orquestas más queridas de la salsa… ¡La Suprema Corte! Prepárate para cantar y gozar todos sus éxitos: \nANEY \nLOS CAPACHOS \nContaminado \nPorque te fuiste \nEscombros \nUn amante como yo \nQuiero quedarme en ti \n…¡y muchos más! \nSerá una noche llena de sabor\, sentimiento y pura salsa que no te puedes perder. \n 
URL:https://planhoy.com/event/la-suprema-corte/
LOCATION:Los capachos\, Vía Villavicencio - Acacías #472 Km 4\, Villavicencio\, Meta\, 500004\, Colombia
CATEGORIES:Discotecas villavo,Villavicencio
ATTACH;FMTTYPE=image/jpeg:https://planhoy.com/wp-content/uploads/2026/04/Screenshot_20260403_173738_com_instagram_android_InstagramMainActivity.jpg
END:VEVENT
END:VCALENDAR