BEGIN:VCALENDAR
VERSION:2.0
PRODID:-// - ECPv6.15.17.1//NONSGML v1.0//EN
CALSCALE:GREGORIAN
METHOD:PUBLISH
X-ORIGINAL-URL:https://planhoy.com
X-WR-CALDESC:Eventos para 
REFRESH-INTERVAL;VALUE=DURATION:PT1H
X-Robots-Tag:noindex
X-PUBLISHED-TTL:PT1H
BEGIN:VTIMEZONE
TZID:UTC
BEGIN:STANDARD
TZOFFSETFROM:+0000
TZOFFSETTO:+0000
TZNAME:UTC
DTSTART:20250101T000000
END:STANDARD
END:VTIMEZONE
BEGIN:VEVENT
DTSTART;TZID=UTC:20260421T060000
DTEND;TZID=UTC:20260529T200000
DTSTAMP:20260426T025659
CREATED:20260421T002326Z
LAST-MODIFIED:20260421T002326Z
UID:1635-1776751200-1780084800@planhoy.com
SUMMARY:Museo de oro Nariño en el CRAI
DESCRIPTION:El pasado nos habla \nEl CRAl se transforma en un portal al tiempo para recibir la Exposición de Piezas Precolombinas. Ven y descubre el arte\, la cosmogonía y el legado de las culturas que habitaron nuestro territorio mucho antes que nosotros. \n  \nEntrada: Libre para todos
URL:https://planhoy.com/event/museo-de-oro-narino-en-el-crai/
LOCATION:Universidad  Santo tomas\, Cra. 22\, Villavicencio\, VILLAVICENCIO\, META\, 500001\, Colombia
CATEGORIES:Educacion y talleres villavo
ATTACH;FMTTYPE=image/jpeg:https://planhoy.com/wp-content/uploads/2026/04/Screenshot_20260420_191458_com_instagram_android_InstagramMainActivity_edit_433317025891367.jpg
END:VEVENT
BEGIN:VEVENT
DTSTART;TZID=UTC:20260421T080000
DTEND;TZID=UTC:20260426T170000
DTSTAMP:20260426T025659
CREATED:20260421T004016Z
LAST-MODIFIED:20260421T004016Z
UID:1639-1776758400-1777222800@planhoy.com
SUMMARY:Diplomado en turismo
DESCRIPTION:Colombia avanza hacia un turismo más incluyente y competitivo. \nEl Ministerio de Comercio\, Industria y Turismo  y la Cámara de la Diversidad de Colombia lanzan una nueva convocatoria para fortalecer el Turismo con Enfoque Diferencial en Diversidad e Inclusión en ocho territorios priorizados: Pereira\, Bogotá\, Villavicencio\, Cartagena\, Neiva\, Cali\, Medellín y San Andrés y Providencia. \nComo parte del proyecto “Construcción y consolidación de herramientas afirmativas para la mejora de experiencias turísticas en la comunidad LGBTIQ+”\, se otorgarán 30 becas para el Diplomado en Turismo con Enfoque Diferencial en Diversidad e Inclusión\, certificado por la Universidad Externado de Colombia. \n✔ Beca del 100% \n103 horas de formación especializada 100% virtual \n✔ Herramientas para fortalecer tu negocio en un mercado más diverso \nConvocatoria abierta hasta el 26 de abril de 2026. \nPostúlate y haz parte de una Colombia que le apuesta a un turismo más diverso\, incluyente y competitivo. \n 
URL:https://planhoy.com/event/diplomado-en-turismo/
CATEGORIES:Eventos virtuales villavo
ATTACH;FMTTYPE=image/jpeg:https://planhoy.com/wp-content/uploads/2026/04/Screenshot_20260420_193502_com_instagram_android_InstagramMainActivity.jpg
END:VEVENT
BEGIN:VEVENT
DTSTART;TZID=UTC:20260421T080000
DTEND;TZID=UTC:20260515T170000
DTSTAMP:20260426T025659
CREATED:20260421T052928Z
LAST-MODIFIED:20260421T052928Z
UID:1684-1776758400-1778864400@planhoy.com
SUMMARY:Programadores para la paz
DESCRIPTION:¿Qué aprenderás en Programadores para la Paz? \nEn esta convocatoria nacional del Ministerio de Igualdad y Equidad podrás formarte en programación\, desarrollo web\, comunicación digital\, seguridad informática y tecnologías para la participación ciudadana. \nUn programa 100% virtual y gratuito\, con certificación de la Universidad de Cartagena\, pensado para fortalecer las habilidades digitales y el perfil profesional de las juventudes en Colombia. \nAnímate a iniciar tu formación\, mejorar tu perfil profesional y fortalecer tus habilidades. \nRegistro https://www.minigualdadyequidad.gov.co/ -/j%C3%B3venes-podr%C3%A1n-formarse -en-tecnolog%C3%ADa-y-democracia-digital -con-nueva-convocatoria-del-ministerio-de -la-igualdad%C2%AO
URL:https://planhoy.com/event/programadores-para-la-paz/
CATEGORIES:Eventos virtuales villavo
ATTACH;FMTTYPE=image/jpeg:https://planhoy.com/wp-content/uploads/2026/04/Screenshot_20260421_002046_com_instagram_android_InstagramMainActivity_edit_450238230507256.jpg
END:VEVENT
BEGIN:VEVENT
DTSTART;VALUE=DATE:20260422
DTEND;VALUE=DATE:20260427
DTSTAMP:20260426T025659
CREATED:20260401T205323Z
LAST-MODIFIED:20260418T210637Z
UID:1423-1776816000-1777247999@planhoy.com
SUMMARY:FESTIVAL INTERNACIONAL DE ILUSTRACIÓN
DESCRIPTION:ILUSTROPÍA regresa en su cuarta edición como un espacio para encontrarnos alrededor de la ilustración\, compartir procesos\, escuchar nuevas miradas y activar el intercambio entre personas que dibujan\, enseñan\, investigan y acompañan este campo desde distintos lugares. \nDurante cinco días\, Bogotá será punto de encuentro para charlas\, talleres\, conciertos\, exposiciones y actividades que amplían la práctica de la ilustración y abren espacios de diálogo\, aprendizaje colectivo entre escenas locales e internacionales. \nPara quienes ya conocen el festival\, abrimos preventa a un precio especial y por tiempo limitado. Un buen momento para asegurar el cupo y volver a ser parte del encuentro. \nEn los próximos días iremos compartiendo la programación y a las y los invitados.
URL:https://planhoy.com/event/festival-internacional-de-ilustracion/
LOCATION:Casa tinta bogota\, Tv. 17 #45d61\, Bogotá\, Cundinamarca\, Colombia
CATEGORIES:Bogota
ATTACH;FMTTYPE=image/jpeg:https://planhoy.com/wp-content/uploads/2026/04/Screenshot_20260401_154607_com_instagram_android_InstagramMainActivity.jpg
END:VEVENT
BEGIN:VEVENT
DTSTART;TZID=UTC:20260422T080000
DTEND;TZID=UTC:20260429T000000
DTSTAMP:20260426T025659
CREATED:20260423T053237Z
LAST-MODIFIED:20260423T053237Z
UID:1702-1776844800-1777420800@planhoy.com
SUMMARY:¿Eres mujer emprendedora?
DESCRIPTION:Participa én nuestro progřama de capacitación gratuita! \nAprende a usar redes sociales y marketing digital\, crea tu tienda online y mejora tus ventas\, potencia tu negocio en el mundo digital
URL:https://planhoy.com/event/eres-mujer-emprendedora/
CATEGORIES:Educacion y talleres villavo,Eventos virtuales villavo
ATTACH;FMTTYPE=image/jpeg:https://planhoy.com/wp-content/uploads/2026/04/Screenshot_20260423_002927_com_instagram_android_InstagramMainActivity.jpg
END:VEVENT
BEGIN:VEVENT
DTSTART;TZID=UTC:20260423T080000
DTEND;TZID=UTC:20260504T233000
DTSTAMP:20260426T025659
CREATED:20260423T054413Z
LAST-MODIFIED:20260423T054413Z
UID:1708-1776931200-1777937400@planhoy.com
SUMMARY:Juventudes Mueven el territorio
DESCRIPTION:unfpa_colombia El @minigualdadcol\, a través del Viceministerio de las Juventudes\, y @unfpa_colombia te invitan a Juventudes que Mueven el Territorio\, un curso virtual\, gratuito y certificado orientado al fortalecimiento de la participación\, el liderazgo y la incidencia de las juventudes en #Colombia\, implementado y certificado por la @urosario. \nEste espacio formativo está pensado para de los consejos y plataformas de juventud\, liderazgos populares y las juventudes\, en todas sus diversidades\, que quieran fortalecer sus conocimientos en construcción de políticas públicas desde el territorio. \nEnlace de UNFPA Colombia. https://colombia.unfpa.org/es?fbclid=PAb21jcARWkGZleHRuA2FlbQIxMQBzcnRjBmFwcF9pZA81NjcwNjczNDMzNTI0MjcAAadi3yldTl7cs6uIy-RhBV4scGdr7sUfZz9-hoCvjF_7Bs3TU_1V1iFS7uBQAQ_aem_Bj4tK7Pz2hIIgjR8LHgvpw&utm_source=ig&utm_medium=social&utm_content=link_in_bio&utm_id=97760_v0_s00_e0_tv3_a1denngqh0smet \nLas inscripciones cierran el 3 de mayo.
URL:https://planhoy.com/event/juventudes-mueven-el-territorio/
CATEGORIES:Eventos virtuales villavo
ATTACH;FMTTYPE=image/jpeg:https://planhoy.com/wp-content/uploads/2026/04/Screenshot_20260423_003931_com_instagram_android_InstagramMainActivity_edit_543981192973215.jpg
END:VEVENT
BEGIN:VEVENT
DTSTART;TZID=UTC:20260423T080000
DTEND;TZID=UTC:20260523T170000
DTSTAMP:20260426T025659
CREATED:20260423T062331Z
LAST-MODIFIED:20260423T062331Z
UID:1727-1776931200-1779555600@planhoy.com
SUMMARY:Banrep desde el lente
DESCRIPTION:BanRep desde el lente es el concurso de creación de videos que invita a estudiantes de colegio a investigar\, comprender y contar\, con su propio estilo\, cómo funciona la economía y cómo influye en sus vidas. \n  \nAquí le contamos cómo se deben conformar los equipos: \n  \nEntre 2 y 3 estudiantes\, que pertenezcan a la misma categoría (Júnior o Sénior). \n  \nUn(a) docente asesor(a) que guía el proceso\, pero no aparece en el video. \n  \nPuede incluir extras sin diálogos. \n  \nEl colegio puede inscribir todos los equipos que quiera\, pero cada estudiante participa solo una vez. \n  \nOrganice su grupo\, defina roles y empiece a construir su idea. Más información en http://banrep.gov.co
URL:https://planhoy.com/event/banrep-desde-el-lente/
CATEGORIES:Educacion y talleres villavo
ATTACH;FMTTYPE=image/jpeg:https://planhoy.com/wp-content/uploads/2026/04/Screenshot_20260423_011816_com_instagram_android_InstagramMainActivity.jpg
END:VEVENT
BEGIN:VEVENT
DTSTART;TZID=UTC:20260425T080000
DTEND;TZID=UTC:20260509T170000
DTSTAMP:20260426T025659
CREATED:20260421T051655Z
LAST-MODIFIED:20260421T051655Z
UID:1680-1777104000-1778346000@planhoy.com
SUMMARY:Taller de comunicación
DESCRIPTION:La Comisión de Comunicaciones de Gobierno Mayor abre la convocatoria para nuestro taller de comunicación como herramienta de cambio social\, donde aprenderás a crear podcast\, fotografía\, video y diseño gráfico basados en comunicación para el cambio social. \nSi eres fotógrafo\, radialista\, o líder social de tu comunidad es tu oportunidad de fortalecer tus habilidades en comunicación.
URL:https://planhoy.com/event/taller-de-comunicacion/
CATEGORIES:Eventos virtuales villavo
ATTACH;FMTTYPE=image/jpeg:https://planhoy.com/wp-content/uploads/2026/04/Screenshot_20260421_001251_com_instagram_android_InstagramMainActivity.jpg
END:VEVENT
BEGIN:VEVENT
DTSTART;TZID=UTC:20260425T190000
DTEND;TZID=UTC:20260426T050000
DTSTAMP:20260426T025659
CREATED:20260423T055637Z
LAST-MODIFIED:20260423T055637Z
UID:1715-1777143600-1777179600@planhoy.com
SUMMARY:Moisés aponte
DESCRIPTION:Música regional mexicana en 1800 barrio la grama
URL:https://planhoy.com/event/moises-aponte/
LOCATION:1800\, Carrera 32 con Calle 40\, VILLAVICENCIO\, META\, 500000\, Colombia
CATEGORIES:Discotecas villavo
ATTACH;FMTTYPE=image/jpeg:https://planhoy.com/wp-content/uploads/2026/04/Screenshot_20260423_005314_com_instagram_android_InstagramMainActivity.jpg
END:VEVENT
BEGIN:VEVENT
DTSTART;TZID=UTC:20260425T190000
DTEND;TZID=UTC:20260426T053000
DTSTAMP:20260426T025659
CREATED:20260416T044501Z
LAST-MODIFIED:20260418T215917Z
UID:1528-1777143600-1777181400@planhoy.com
SUMMARY:Jhon onofre
DESCRIPTION:jhonofre Llegó el momento que tanto estábamos esperando. Este 25 de abril\, Villavicencio se viste de gala para una noche que quedará marcada en la historia de nuestra música. Quiero invitarlos personalmente a la grabación en vivo de mi próximo álbum: “Onofre más popular 2”. \nUstedes han sido parte de cada paso en mi carrera y no quiero que nadie se quede por fuera. Quiero que sus rostros y sus aplausos sean los protagonistas de este gran video. ¡No me fallen! Los espero a todos mis amigos de la capital del Meta y sus alrededores para que cantemos a grito herido.
URL:https://planhoy.com/event/jhon-onofre/
LOCATION:Los capachos\, Vía Villavicencio - Acacías #472 Km 4\, Villavicencio\, Meta\, 500004\, Colombia
CATEGORIES:Discotecas villavo,Villavicencio
ATTACH;FMTTYPE=image/jpeg:https://planhoy.com/wp-content/uploads/2026/04/Screenshot_20260415_203436_com_instagram_android_InstagramMainActivity_edit_236481236877392.jpg
END:VEVENT
BEGIN:VEVENT
DTSTART;TZID=UTC:20260425T190000
DTEND;TZID=UTC:20260426T053000
DTSTAMP:20260426T025659
CREATED:20260421T041237Z
LAST-MODIFIED:20260421T041237Z
UID:1659-1777143600-1777181400@planhoy.com
SUMMARY:Wisin y yandel yo me llamo
DESCRIPTION:Noche de Clásicos DEL PERREO \nEn la mejor Cantina PERENDENGUE \nCANTINA BAR \nHaz tu Reserva 313 885 9559 \nZona \n7 de Agosto – Villavicencio
URL:https://planhoy.com/event/wisin-y-yandel-yo-me-llamo/
LOCATION:Perendengue cantina bar\, Cl. 26 #38-124 38-2 a\, VILLAVICENCIO\, META\, 500004\, Colombia
CATEGORIES:Discotecas villavo,Villavicencio
ATTACH;FMTTYPE=image/jpeg:https://planhoy.com/wp-content/uploads/2026/04/Screenshot_20260420_133650_com_instagram_android_InstagramMainActivity_edit_445616105735582.jpg
END:VEVENT
BEGIN:VEVENT
DTSTART;TZID=UTC:20260425T190000
DTEND;TZID=UTC:20260426T100000
DTSTAMP:20260426T025659
CREATED:20260423T060415Z
LAST-MODIFIED:20260423T060415Z
UID:1722-1777143600-1777197600@planhoy.com
SUMMARY:Esteban García
DESCRIPTION:¡El sábado 25 de abril la rumba es en \nelpoblado_villavo \ngrande! \nEl Poblado te invita a disfrutar una noche espectacular junto a Esteban García y su agrupación \nSábado 25 de abril \nEl Poblado Gastro Bar – Villavicencio \nFREE COVER \nBuena música\, ambiente increíble y la mejor energía para que la pases brutal \nInfo & reservas: 3104078914
URL:https://planhoy.com/event/esteban-garcia/
LOCATION:El poblado\, Anillo vial Frente a Llano Abastos Entrando por rancho alegre\, Cl. 1 #22 58\, VILLAVICENCIO\, META\, Colombia
CATEGORIES:Discotecas villavo
ATTACH;FMTTYPE=image/jpeg:https://planhoy.com/wp-content/uploads/2026/04/Screenshot_20260423_010025_com_instagram_android_InstagramMainActivity.jpg
END:VEVENT
BEGIN:VEVENT
DTSTART;TZID=UTC:20260425T200000
DTEND;TZID=UTC:20260426T053000
DTSTAMP:20260426T025659
CREATED:20260325T050808Z
LAST-MODIFIED:20260418T210307Z
UID:1078-1777147200-1777181400@planhoy.com
SUMMARY:Paola Jara en Vivo
DESCRIPTION:Este sábado 25 de abril\, la cantina se transforma para recibir a Paola Jara EN VIVO Un show exclusivo\, mesas limitadas y el ambiente \nmás VIP de la ciudad \nSi sabes de rumba fina\, este es TU lugar \nSi te gusta cantar con el alma… esta es TU noche
URL:https://planhoy.com/event/paola-jara-en-vivo/
LOCATION:Mezcla mexican cantina\, Cl. 83 #14-26\, Bogota\, Cundinamarca\, 110221\, Colombia
CATEGORIES:Bogota
ATTACH;FMTTYPE=image/jpeg:https://planhoy.com/wp-content/uploads/2026/03/Screenshot_20260325_000319.jpg
END:VEVENT
BEGIN:VEVENT
DTSTART;TZID=UTC:20260425T220000
DTEND;TZID=UTC:20260426T060000
DTSTAMP:20260426T025659
CREATED:20260424T000606Z
LAST-MODIFIED:20260424T000606Z
UID:1807-1777154400-1777183200@planhoy.com
SUMMARY:Camilo ortiz
DESCRIPTION:
URL:https://planhoy.com/event/camilo-ortiz/
CATEGORIES:Discotecas villavo
ATTACH;FMTTYPE=image/jpeg:https://planhoy.com/wp-content/uploads/2026/04/Screenshot_20260423_182829_com_instagram_android_InstagramMainActivity_edit_578693064600338.jpg
END:VEVENT
BEGIN:VEVENT
DTSTART;VALUE=DATE:20260426
DTEND;VALUE=DATE:20260427
DTSTAMP:20260426T025659
CREATED:20260225T003705Z
LAST-MODIFIED:20260418T215856Z
UID:228-1777161600-1777247999@planhoy.com
SUMMARY:LAS GUARDIANAS K- POP – VILLAVICENCIO-2026
DESCRIPTION:El escenario se enciende con luces\,pantallas y musica para dar vida a un super show\, donde el super grupo de Guardianas K-POP usa sus poderes secretos para proteger a sus fans de amenazas sobrenaturales y de una banda rival de chicos decididos a robar corazones y mentes . un espectaculo para toda la famila por primera vez en Colombia
URL:https://planhoy.com/event/las-guardianas-k-pop-villavicencio-2026/
LOCATION:Auditorio GHL Hotel Grand\, Cra. 39c #19C 15\, Villavicencio\, Meta\, Villavicencio\, Meta\, 500004\, Colombia
CATEGORIES:Familiar e infantil villavo,Villavicencio
ATTACH;FMTTYPE=image/png:https://planhoy.com/wp-content/uploads/2026/02/POP.png
END:VEVENT
END:VCALENDAR