BEGIN:VCALENDAR
VERSION:2.0
PRODID:-// - ECPv6.15.17.1//NONSGML v1.0//EN
CALSCALE:GREGORIAN
METHOD:PUBLISH
X-ORIGINAL-URL:https://planhoy.com
X-WR-CALDESC:Eventos para 
REFRESH-INTERVAL;VALUE=DURATION:PT1H
X-Robots-Tag:noindex
X-PUBLISHED-TTL:PT1H
BEGIN:VTIMEZONE
TZID:UTC
BEGIN:STANDARD
TZOFFSETFROM:+0000
TZOFFSETTO:+0000
TZNAME:UTC
DTSTART:20250101T000000
END:STANDARD
END:VTIMEZONE
BEGIN:VEVENT
DTSTART;TZID=UTC:20260421T060000
DTEND;TZID=UTC:20260529T200000
DTSTAMP:20260424T014039
CREATED:20260421T002326Z
LAST-MODIFIED:20260421T002326Z
UID:1635-1776751200-1780084800@planhoy.com
SUMMARY:Museo de oro Nariño en el CRAI
DESCRIPTION:El pasado nos habla \nEl CRAl se transforma en un portal al tiempo para recibir la Exposición de Piezas Precolombinas. Ven y descubre el arte\, la cosmogonía y el legado de las culturas que habitaron nuestro territorio mucho antes que nosotros. \n  \nEntrada: Libre para todos
URL:https://planhoy.com/event/museo-de-oro-narino-en-el-crai/
LOCATION:Universidad  Santo tomas\, Cra. 22\, Villavicencio\, VILLAVICENCIO\, META\, 500001\, Colombia
CATEGORIES:Educacion y talleres villavo
ATTACH;FMTTYPE=image/jpeg:https://planhoy.com/wp-content/uploads/2026/04/Screenshot_20260420_191458_com_instagram_android_InstagramMainActivity_edit_433317025891367.jpg
END:VEVENT
BEGIN:VEVENT
DTSTART;TZID=UTC:20260421T080000
DTEND;TZID=UTC:20260426T170000
DTSTAMP:20260424T014039
CREATED:20260421T004016Z
LAST-MODIFIED:20260421T004016Z
UID:1639-1776758400-1777222800@planhoy.com
SUMMARY:Diplomado en turismo
DESCRIPTION:Colombia avanza hacia un turismo más incluyente y competitivo. \nEl Ministerio de Comercio\, Industria y Turismo  y la Cámara de la Diversidad de Colombia lanzan una nueva convocatoria para fortalecer el Turismo con Enfoque Diferencial en Diversidad e Inclusión en ocho territorios priorizados: Pereira\, Bogotá\, Villavicencio\, Cartagena\, Neiva\, Cali\, Medellín y San Andrés y Providencia. \nComo parte del proyecto “Construcción y consolidación de herramientas afirmativas para la mejora de experiencias turísticas en la comunidad LGBTIQ+”\, se otorgarán 30 becas para el Diplomado en Turismo con Enfoque Diferencial en Diversidad e Inclusión\, certificado por la Universidad Externado de Colombia. \n✔ Beca del 100% \n103 horas de formación especializada 100% virtual \n✔ Herramientas para fortalecer tu negocio en un mercado más diverso \nConvocatoria abierta hasta el 26 de abril de 2026. \nPostúlate y haz parte de una Colombia que le apuesta a un turismo más diverso\, incluyente y competitivo. \n 
URL:https://planhoy.com/event/diplomado-en-turismo/
LOCATION:META
CATEGORIES:Eventos virtuales villavo
ATTACH;FMTTYPE=image/jpeg:https://planhoy.com/wp-content/uploads/2026/04/Screenshot_20260420_193502_com_instagram_android_InstagramMainActivity.jpg
END:VEVENT
BEGIN:VEVENT
DTSTART;TZID=UTC:20260421T080000
DTEND;TZID=UTC:20260515T170000
DTSTAMP:20260424T014039
CREATED:20260421T052928Z
LAST-MODIFIED:20260421T052928Z
UID:1684-1776758400-1778864400@planhoy.com
SUMMARY:Programadores para la paz
DESCRIPTION:¿Qué aprenderás en Programadores para la Paz? \nEn esta convocatoria nacional del Ministerio de Igualdad y Equidad podrás formarte en programación\, desarrollo web\, comunicación digital\, seguridad informática y tecnologías para la participación ciudadana. \nUn programa 100% virtual y gratuito\, con certificación de la Universidad de Cartagena\, pensado para fortalecer las habilidades digitales y el perfil profesional de las juventudes en Colombia. \nAnímate a iniciar tu formación\, mejorar tu perfil profesional y fortalecer tus habilidades. \nRegistro https://www.minigualdadyequidad.gov.co/ -/j%C3%B3venes-podr%C3%A1n-formarse -en-tecnolog%C3%ADa-y-democracia-digital -con-nueva-convocatoria-del-ministerio-de -la-igualdad%C2%AO
URL:https://planhoy.com/event/programadores-para-la-paz/
LOCATION:META
CATEGORIES:Eventos virtuales villavo
ATTACH;FMTTYPE=image/jpeg:https://planhoy.com/wp-content/uploads/2026/04/Screenshot_20260421_002046_com_instagram_android_InstagramMainActivity_edit_450238230507256.jpg
END:VEVENT
BEGIN:VEVENT
DTSTART;VALUE=DATE:20260422
DTEND;VALUE=DATE:20260427
DTSTAMP:20260424T014039
CREATED:20260401T205323Z
LAST-MODIFIED:20260418T210637Z
UID:1423-1776816000-1777247999@planhoy.com
SUMMARY:FESTIVAL INTERNACIONAL DE ILUSTRACIÓN
DESCRIPTION:ILUSTROPÍA regresa en su cuarta edición como un espacio para encontrarnos alrededor de la ilustración\, compartir procesos\, escuchar nuevas miradas y activar el intercambio entre personas que dibujan\, enseñan\, investigan y acompañan este campo desde distintos lugares. \nDurante cinco días\, Bogotá será punto de encuentro para charlas\, talleres\, conciertos\, exposiciones y actividades que amplían la práctica de la ilustración y abren espacios de diálogo\, aprendizaje colectivo entre escenas locales e internacionales. \nPara quienes ya conocen el festival\, abrimos preventa a un precio especial y por tiempo limitado. Un buen momento para asegurar el cupo y volver a ser parte del encuentro. \nEn los próximos días iremos compartiendo la programación y a las y los invitados.
URL:https://planhoy.com/event/festival-internacional-de-ilustracion/
LOCATION:Casa tinta bogota\, Tv. 17 #45d61\, Bogotá\, Cundinamarca\, Colombia
CATEGORIES:Bogota
ATTACH;FMTTYPE=image/jpeg:https://planhoy.com/wp-content/uploads/2026/04/Screenshot_20260401_154607_com_instagram_android_InstagramMainActivity.jpg
END:VEVENT
BEGIN:VEVENT
DTSTART;TZID=UTC:20260422T080000
DTEND;TZID=UTC:20260429T000000
DTSTAMP:20260424T014039
CREATED:20260423T053237Z
LAST-MODIFIED:20260423T053237Z
UID:1702-1776844800-1777420800@planhoy.com
SUMMARY:¿Eres mujer emprendedora?
DESCRIPTION:Participa én nuestro progřama de capacitación gratuita! \nAprende a usar redes sociales y marketing digital\, crea tu tienda online y mejora tus ventas\, potencia tu negocio en el mundo digital
URL:https://planhoy.com/event/eres-mujer-emprendedora/
LOCATION:META
CATEGORIES:Educacion y talleres villavo,Eventos virtuales villavo
ATTACH;FMTTYPE=image/jpeg:https://planhoy.com/wp-content/uploads/2026/04/Screenshot_20260423_002927_com_instagram_android_InstagramMainActivity.jpg
END:VEVENT
BEGIN:VEVENT
DTSTART;TZID=UTC:20260423T080000
DTEND;TZID=UTC:20260504T233000
DTSTAMP:20260424T014039
CREATED:20260423T054413Z
LAST-MODIFIED:20260423T054413Z
UID:1708-1776931200-1777937400@planhoy.com
SUMMARY:Juventudes Mueven el territorio
DESCRIPTION:unfpa_colombia El @minigualdadcol\, a través del Viceministerio de las Juventudes\, y @unfpa_colombia te invitan a Juventudes que Mueven el Territorio\, un curso virtual\, gratuito y certificado orientado al fortalecimiento de la participación\, el liderazgo y la incidencia de las juventudes en #Colombia\, implementado y certificado por la @urosario. \nEste espacio formativo está pensado para de los consejos y plataformas de juventud\, liderazgos populares y las juventudes\, en todas sus diversidades\, que quieran fortalecer sus conocimientos en construcción de políticas públicas desde el territorio. \nEnlace de UNFPA Colombia. https://colombia.unfpa.org/es?fbclid=PAb21jcARWkGZleHRuA2FlbQIxMQBzcnRjBmFwcF9pZA81NjcwNjczNDMzNTI0MjcAAadi3yldTl7cs6uIy-RhBV4scGdr7sUfZz9-hoCvjF_7Bs3TU_1V1iFS7uBQAQ_aem_Bj4tK7Pz2hIIgjR8LHgvpw&utm_source=ig&utm_medium=social&utm_content=link_in_bio&utm_id=97760_v0_s00_e0_tv3_a1denngqh0smet \nLas inscripciones cierran el 3 de mayo.
URL:https://planhoy.com/event/juventudes-mueven-el-territorio/
LOCATION:META
CATEGORIES:Eventos virtuales villavo
ATTACH;FMTTYPE=image/jpeg:https://planhoy.com/wp-content/uploads/2026/04/Screenshot_20260423_003931_com_instagram_android_InstagramMainActivity_edit_543981192973215.jpg
END:VEVENT
BEGIN:VEVENT
DTSTART;TZID=UTC:20260423T080000
DTEND;TZID=UTC:20260523T170000
DTSTAMP:20260424T014039
CREATED:20260423T062331Z
LAST-MODIFIED:20260423T062331Z
UID:1727-1776931200-1779555600@planhoy.com
SUMMARY:Banrep desde el lente
DESCRIPTION:BanRep desde el lente es el concurso de creación de videos que invita a estudiantes de colegio a investigar\, comprender y contar\, con su propio estilo\, cómo funciona la economía y cómo influye en sus vidas. \n  \nAquí le contamos cómo se deben conformar los equipos: \n  \nEntre 2 y 3 estudiantes\, que pertenezcan a la misma categoría (Júnior o Sénior). \n  \nUn(a) docente asesor(a) que guía el proceso\, pero no aparece en el video. \n  \nPuede incluir extras sin diálogos. \n  \nEl colegio puede inscribir todos los equipos que quiera\, pero cada estudiante participa solo una vez. \n  \nOrganice su grupo\, defina roles y empiece a construir su idea. Más información en http://banrep.gov.co
URL:https://planhoy.com/event/banrep-desde-el-lente/
LOCATION:META
CATEGORIES:Educacion y talleres villavo
ATTACH;FMTTYPE=image/jpeg:https://planhoy.com/wp-content/uploads/2026/04/Screenshot_20260423_011816_com_instagram_android_InstagramMainActivity.jpg
END:VEVENT
BEGIN:VEVENT
DTSTART;TZID=UTC:20260423T123000
DTEND;TZID=UTC:20260424T010000
DTSTAMP:20260424T014039
CREATED:20260423T060710Z
LAST-MODIFIED:20260423T062512Z
UID:1725-1776947400-1776992400@planhoy.com
SUMMARY:Juanda Mondragón
DESCRIPTION:Se presenta no te lo puedes perder
URL:https://planhoy.com/event/juanda-mondragon/
LOCATION:El Fontanar\, Vanguardia\, Villavicencio\, Meta\, VILLAVICENCIO\, META\, 500001\, Colombia
CATEGORIES:Discotecas villavo,Gastronomia restaurantes
ATTACH;FMTTYPE=image/jpeg:https://planhoy.com/wp-content/uploads/2026/04/Screenshot_20260423_010458_com_instagram_android_InstagramMainActivity.jpg
END:VEVENT
BEGIN:VEVENT
DTSTART;TZID=UTC:20260423T190000
DTEND;TZID=UTC:20260424T053000
DTSTAMP:20260424T014039
CREATED:20260423T055846Z
LAST-MODIFIED:20260423T055846Z
UID:1719-1776970800-1777008600@planhoy.com
SUMMARY:Valentina García
DESCRIPTION:Música popular 1800 barrio la grama
URL:https://planhoy.com/event/valentina-garcia/
LOCATION:META
CATEGORIES:Discotecas villavo
ATTACH;FMTTYPE=image/jpeg:https://planhoy.com/wp-content/uploads/2026/04/Screenshot_20260423_005248_com_instagram_android_InstagramMainActivity.jpg
END:VEVENT
BEGIN:VEVENT
DTSTART;TZID=UTC:20260423T220000
DTEND;TZID=UTC:20260424T053000
DTSTAMP:20260424T014039
CREATED:20260424T000013Z
LAST-MODIFIED:20260424T000244Z
UID:1804-1776981600-1777008600@planhoy.com
SUMMARY:Tatan montenegro
DESCRIPTION:
URL:https://planhoy.com/event/tatan-montenegro/
LOCATION:Palo santo\, Cra. 40 #26b 47\, VILLAVICENCIO\, META\, 500004\, Colombia
CATEGORIES:Discotecas villavo
ATTACH;FMTTYPE=image/jpeg:https://planhoy.com/wp-content/uploads/2026/04/Screenshot_20260423_182745_com_instagram_android_InstagramMainActivity_edit_577949010920986.jpg
END:VEVENT
BEGIN:VEVENT
DTSTART;VALUE=DATE:20260424
DTEND;VALUE=DATE:20260425
DTSTAMP:20260424T014039
CREATED:20260319T024717Z
LAST-MODIFIED:20260418T220041Z
UID:843-1776988800-1777075199@planhoy.com
SUMMARY:ALERTA VILLAVICENCIO
DESCRIPTION:¡ALERTA MÁXIMA EN LOS CAPACHOS!  Prepárate para la noche de humor y fiesta más esperada del año.
URL:https://planhoy.com/event/alerta-villavicencio/
LOCATION:Los capachos\, Vía Villavicencio - Acacías #472 Km 4\, Villavicencio\, Meta\, 500004\, Colombia
CATEGORIES:Conciertos villavo,otros eventos villavo,Villavicencio
ATTACH;FMTTYPE=image/jpeg:https://planhoy.com/wp-content/uploads/2026/03/Screenshot_20260318_214240.jpg
END:VEVENT
BEGIN:VEVENT
DTSTART;TZID=UTC:20260424T120000
DTEND;TZID=UTC:20260424T150000
DTSTAMP:20260424T014039
CREATED:20260421T135837Z
LAST-MODIFIED:20260421T140002Z
UID:1690-1777032000-1777042800@planhoy.com
SUMMARY:Día de la Secretaría
DESCRIPTION:Día de la Secretaría: celebre con sabor y alegría \ncajacofrem \nEste es el momento perfecto para reconocer su dedicación y compromiso con una experiencia especial en el Restaurante del Parque de la Vida \nDisfrute de: Plato especial Grupo musical en vivo Stand de fotos para capturar momentos inolvidables \nReserve ahora
URL:https://planhoy.com/event/dia-de-la-secretaria/
LOCATION:Parque de la vida cofrem\, Cl. 33a #16a-27\, VILLAVICENCIO\, META\, Colombia
CATEGORIES:Gastronomia restaurantes,Villavicencio
ATTACH;FMTTYPE=image/jpeg:https://planhoy.com/wp-content/uploads/2026/04/Screenshot_20260421_085540_com_instagram_android_InstagramMainActivity.jpg
END:VEVENT
BEGIN:VEVENT
DTSTART;TZID=UTC:20260424T150000
DTEND;TZID=UTC:20260424T213000
DTSTAMP:20260424T014039
CREATED:20260423T235005Z
LAST-MODIFIED:20260423T235005Z
UID:1798-1777042800-1777066200@planhoy.com
SUMMARY:VIERNES DE LLANERIDAD
DESCRIPTION:Celebremos nuestras tradiciones con degustaciones y muestras folclóricas. \n 
URL:https://planhoy.com/event/viernes-de-llaneridad/
LOCATION:Centro comercial viva\, Cl. 7 #45-185\, VILLAVICENCIO\, META\, 500004\, Colombia
CATEGORIES:Familiar e infantil villavo
ATTACH;FMTTYPE=image/jpeg:https://planhoy.com/wp-content/uploads/2026/04/Screenshot_20260423_182627_com_instagram_android_InstagramMainActivity.jpg
END:VEVENT
BEGIN:VEVENT
DTSTART;TZID=UTC:20260424T190000
DTEND;TZID=UTC:20260424T190000
DTSTAMP:20260424T014039
CREATED:20260415T003150Z
LAST-MODIFIED:20260418T220028Z
UID:1512-1777057200-1777057200@planhoy.com
SUMMARY:André y ríobueno
DESCRIPTION:Una rumba A OTRO NIVEL con andreyriobueno y lo mejor de la música regional y de banda
URL:https://planhoy.com/event/andre-y-riobueno/
LOCATION:Perendengue cantina bar\, Cl. 26 #38-124 38-2 a\, VILLAVICENCIO\, META\, 500004\, Colombia
CATEGORIES:Discotecas villavo,Villavicencio
ATTACH;FMTTYPE=image/jpeg:https://planhoy.com/wp-content/uploads/2026/04/Screenshot_20260414_192228_com_instagram_android_InstagramMainActivity_edit_173723085127478.jpg
END:VEVENT
BEGIN:VEVENT
DTSTART;TZID=UTC:20260424T190000
DTEND;TZID=UTC:20260425T050000
DTSTAMP:20260424T014039
CREATED:20260330T043630Z
LAST-MODIFIED:20260418T220006Z
UID:1259-1777057200-1777093200@planhoy.com
SUMMARY:RAFA PEREZ
DESCRIPTION:Este viernes 24 de abril\, llega una experiencia única \nUn evento cargado de energía\, sentimiento y los mejores éxitos del vallenato\, acompañado de grandes artistas invitados como banda blindaje y Juanda Mondragón. \nProducción\, ambiente y nivel que ya han demostrado ser un éxito
URL:https://planhoy.com/event/rafa-perez/
LOCATION:MARÍA BONITA\, Cra. 39 #26 B 39\, VILLAVICENCIO\, META\, 500004\, Colombia
CATEGORIES:Discotecas villavo,Villavicencio
ATTACH;FMTTYPE=image/jpeg:https://planhoy.com/wp-content/uploads/2026/03/Screenshot_20260329_233201_com_instagram_android_InstagramMainActivity.jpg
END:VEVENT
BEGIN:VEVENT
DTSTART;TZID=UTC:20260424T190000
DTEND;TZID=UTC:20260425T053000
DTSTAMP:20260424T014039
CREATED:20260330T013052Z
LAST-MODIFIED:20260418T210420Z
UID:1228-1777057200-1777095000@planhoy.com
SUMMARY:NOCHE DE JAZZ EN EL TESORO
DESCRIPTION:NOCHE DE JAZZ EN EL TESORO\nThe US Jazz Faculty Collective\nDirector: Ryan Middagh\, Vanderbilt University\n24 de abril \, 7:00 p.m.\nProductores y responsables del evento: Colombo Americano de Medellín y Teatro El Tesoro.\nEl Colombo Americano de Medellín y el Teatro El Tesoro presentan Noche de Jazz en El Tesoro\, con un concierto llamado The US Jazz Faculty Collective\, el cual rinde homenaje a este género musical como lenguaje universal de diálogo\, colaboración e innovación artística\, interpretando algunos de sus grandes clásicos. Al mismo tiempo\, a través de este ensamble musical\, dirigido por Ryan Middagh\, se exalta la trayectoria y calidad de cinco destacados docentes de jazz en los Estados Unidos\,  cuya pasión y talento han enriquecido el conocimiento y la circulación de esta música por diferentes ciudades de este país.
URL:https://planhoy.com/event/noche-de-jazz-en-el-tesoro/
LOCATION:TEATRO EL TESORO\, Cra. 25a #1A Sur - 45\, Medellin\, Antioquia\, Colombia
CATEGORIES:Medellin
ATTACH;FMTTYPE=image/jpeg:https://planhoy.com/wp-content/uploads/2026/03/Screenshot_20260329_202407_com_facebook_katana_BrowserLiteDIActivity.jpg
END:VEVENT
BEGIN:VEVENT
DTSTART;TZID=UTC:20260424T200000
DTEND;TZID=UTC:20260425T050000
DTSTAMP:20260424T014039
CREATED:20260328T052335Z
LAST-MODIFIED:20260418T210408Z
UID:1169-1777060800-1777093200@planhoy.com
SUMMARY:BIENVENIDOS A LA ISLA
DESCRIPTION:LA PÁMPARA BAR PRESENTA \nBIENVENIDOS A LA ISLA JUNTO A CHEERS UP LOS QUE SABEN DE FIESTA!!\nUNA NOCHE CARIBEÑA LLENA DE FLOW\, BUENA ENERGÍA Y VIBES DE PLAYA EN EL CORAZÓN DE LA CIUDAD. \nPREPÁRATE PARA SENTIR LA BRISA DEL CARIBE Y VIVIR UNA FIESTA TROPICAL CON CHEERS UP. \nVIERNES 24 DE ABRIL\nLA PÁMPÁRA BAR – CRA 13 #64-79
URL:https://planhoy.com/event/bienvenidos-a-la-isla/
LOCATION:La pampara\, Kr 13 #64-79\, Bogota\, Cundinamarca\, 110211\, Colombia
CATEGORIES:Bogota
ATTACH;FMTTYPE=image/jpeg:https://planhoy.com/wp-content/uploads/2026/03/Screenshot_20260328_002001_com_facebook_katana_FbMainTabActivity.jpg
END:VEVENT
BEGIN:VEVENT
DTSTART;TZID=UTC:20260424T200000
DTEND;TZID=UTC:20260425T050000
DTSTAMP:20260424T014039
CREATED:20260421T140742Z
LAST-MODIFIED:20260421T140742Z
UID:1694-1777060800-1777093200@planhoy.com
SUMMARY:
DESCRIPTION:VIERNES DE RUMBA Y CELEBRACIÓN \nEN EXCLUSIVA ANGIEE VIVAS \nVIERNES 24 ABRIL VILLAVICENCIO NO COVER \nCon DJ RESIDENTE KALI \npa’ que no pare la salsa pa’ \ngozar \nEsto está es _PRENDIDO_ \nInfo y reservas: _313 431 4494 \nAllá nos vemos. Hoy se baila con estilo en _QUINTO MAYOR
URL:https://planhoy.com/event/1694/
LOCATION:META
CATEGORIES:Discotecas villavo
ATTACH;FMTTYPE=image/jpeg:https://planhoy.com/wp-content/uploads/2026/04/Screenshot_20260421_090325_com_instagram_android_InstagramMainActivity_edit_458146773892625.jpg
END:VEVENT
BEGIN:VEVENT
DTSTART;TZID=UTC:20260424T200000
DTEND;TZID=UTC:20260425T053000
DTSTAMP:20260424T014039
CREATED:20260423T054912Z
LAST-MODIFIED:20260423T055006Z
UID:1711-1777060800-1777095000@planhoy.com
SUMMARY:Tributo beele
DESCRIPTION:Beele \nTRIBUTO INTERNACIONAL EN VIVO
URL:https://planhoy.com/event/tributo-beele/
LOCATION:Palo santo\, Cra. 40 #26b 47\, VILLAVICENCIO\, META\, 500004\, Colombia
CATEGORIES:Discotecas villavo
ATTACH;FMTTYPE=image/jpeg:https://planhoy.com/wp-content/uploads/2026/04/Screenshot_20260423_004613_com_instagram_android_InstagramMainActivity.jpg
END:VEVENT
BEGIN:VEVENT
DTSTART;TZID=UTC:20260424T210000
DTEND;TZID=UTC:20260425T100000
DTSTAMP:20260424T014039
CREATED:20260424T003007Z
LAST-MODIFIED:20260424T003007Z
UID:1813-1777064400-1777111200@planhoy.com
SUMMARY:Alci Acosta yo me llamo
DESCRIPTION:YO ME LLAMO FALCI ACOSTA \nARTISTA \nJair de la Rosa \nTRIBUTO AL MAESTRO** \nALCI ACOSTA • JULIO JARAMILLO \nCLUB EL TENAMPA CAMPESTRE \nANILLO VIAL DIAGONAL A LLANABASTOS
URL:https://planhoy.com/event/alci-acosta-yo-me-llamo/
LOCATION:Tenampa\, Anillo vial\, VILLAVICENCIO\, META\, Colombia
CATEGORIES:Discotecas villavo
ATTACH;FMTTYPE=image/jpeg:https://planhoy.com/wp-content/uploads/2026/04/Screenshot_20260423_183042_com_instagram_android_InstagramMainActivity_edit_579989301476875.jpg
END:VEVENT
END:VCALENDAR